BEGIN:VCALENDAR
VERSION:2.0
PRODID:-//1. Münchner Weißbierverein - ECPv6.15.20//NONSGML v1.0//EN
CALSCALE:GREGORIAN
METHOD:PUBLISH
X-WR-CALNAME:1. Münchner Weißbierverein
X-ORIGINAL-URL:https://weissbier-muenchen.de
X-WR-CALDESC:Veranstaltungen für 1. Münchner Weißbierverein
REFRESH-INTERVAL;VALUE=DURATION:PT1H
X-Robots-Tag:noindex
X-PUBLISHED-TTL:PT1H
BEGIN:VTIMEZONE
TZID:Europe/Berlin
BEGIN:DAYLIGHT
TZOFFSETFROM:+0100
TZOFFSETTO:+0200
TZNAME:CEST
DTSTART:20220327T010000
END:DAYLIGHT
BEGIN:STANDARD
TZOFFSETFROM:+0200
TZOFFSETTO:+0100
TZNAME:CET
DTSTART:20221030T010000
END:STANDARD
BEGIN:DAYLIGHT
TZOFFSETFROM:+0100
TZOFFSETTO:+0200
TZNAME:CEST
DTSTART:20230326T010000
END:DAYLIGHT
BEGIN:STANDARD
TZOFFSETFROM:+0200
TZOFFSETTO:+0100
TZNAME:CET
DTSTART:20231029T010000
END:STANDARD
BEGIN:DAYLIGHT
TZOFFSETFROM:+0100
TZOFFSETTO:+0200
TZNAME:CEST
DTSTART:20240331T010000
END:DAYLIGHT
BEGIN:STANDARD
TZOFFSETFROM:+0200
TZOFFSETTO:+0100
TZNAME:CET
DTSTART:20241027T010000
END:STANDARD
END:VTIMEZONE
BEGIN:VEVENT
DTSTART;TZID=Europe/Berlin:20231209T180000
DTEND;TZID=Europe/Berlin:20231209T230000
DTSTAMP:20260423T035834
CREATED:20230510T073905Z
LAST-MODIFIED:20231209T182255Z
UID:179-1702144800-1702162800@weissbier-muenchen.de
SUMMARY:Weihnachtsfeier
DESCRIPTION:Wir freuen uns euch zu unserer alljährlichen Weihnachtsfeier zu treffen! \nDieses mal finden wir uns im Weinbauer in Schwabing ein! 
URL:https://weissbier-muenchen.de/event/weihnachtsfeier/
END:VEVENT
END:VCALENDAR