BEGIN:VCALENDAR
VERSION:2.0
PRODID:-//1. Münchner Weißbierverein - ECPv6.15.20//NONSGML v1.0//EN
CALSCALE:GREGORIAN
METHOD:PUBLISH
X-ORIGINAL-URL:https://weissbier-muenchen.de
X-WR-CALDESC:Veranstaltungen für 1. Münchner Weißbierverein
REFRESH-INTERVAL;VALUE=DURATION:PT1H
X-Robots-Tag:noindex
X-PUBLISHED-TTL:PT1H
BEGIN:VTIMEZONE
TZID:Europe/Berlin
BEGIN:DAYLIGHT
TZOFFSETFROM:+0100
TZOFFSETTO:+0200
TZNAME:CEST
DTSTART:20240331T010000
END:DAYLIGHT
BEGIN:STANDARD
TZOFFSETFROM:+0200
TZOFFSETTO:+0100
TZNAME:CET
DTSTART:20241027T010000
END:STANDARD
BEGIN:DAYLIGHT
TZOFFSETFROM:+0100
TZOFFSETTO:+0200
TZNAME:CEST
DTSTART:20250330T010000
END:DAYLIGHT
BEGIN:STANDARD
TZOFFSETFROM:+0200
TZOFFSETTO:+0100
TZNAME:CET
DTSTART:20251026T010000
END:STANDARD
BEGIN:DAYLIGHT
TZOFFSETFROM:+0100
TZOFFSETTO:+0200
TZNAME:CEST
DTSTART:20260329T010000
END:DAYLIGHT
BEGIN:STANDARD
TZOFFSETFROM:+0200
TZOFFSETTO:+0100
TZNAME:CET
DTSTART:20261025T010000
END:STANDARD
END:VTIMEZONE
BEGIN:VEVENT
DTSTART;TZID=Europe/Berlin:20250226T190000
DTEND;TZID=Europe/Berlin:20250226T190000
DTSTAMP:20260422T043600
CREATED:20250226T162054Z
LAST-MODIFIED:20250226T162124Z
UID:856-1740596400-1740596400@weissbier-muenchen.de
SUMMARY:Jahreshauptversammlung 2025
DESCRIPTION:Am 28.02. findet unsere Jahreshauptversammlung 2025 im Weißen Bräuhaus statt. Die Einladung wurde satzungsgemäß verschickt. \n\n\n\nWir freuen uns auf zahlreiches Erscheinen\, rege Diskussionen und grandiose Ideen für 2025!
URL:https://weissbier-muenchen.de/event/jahreshauptversammlung-2025/
LOCATION:Weißes Bräuhaus\, Tal 7\, München\, 80331
END:VEVENT
END:VCALENDAR