BEGIN:VCALENDAR
VERSION:2.0
PRODID:-//1. Münchner Weißbierverein - ECPv6.15.20//NONSGML v1.0//EN
CALSCALE:GREGORIAN
METHOD:PUBLISH
X-ORIGINAL-URL:https://weissbier-muenchen.de
X-WR-CALDESC:Veranstaltungen für 1. Münchner Weißbierverein
REFRESH-INTERVAL;VALUE=DURATION:PT1H
X-Robots-Tag:noindex
X-PUBLISHED-TTL:PT1H
BEGIN:VTIMEZONE
TZID:Europe/Berlin
BEGIN:DAYLIGHT
TZOFFSETFROM:+0100
TZOFFSETTO:+0200
TZNAME:CEST
DTSTART:20230326T010000
END:DAYLIGHT
BEGIN:STANDARD
TZOFFSETFROM:+0200
TZOFFSETTO:+0100
TZNAME:CET
DTSTART:20231029T010000
END:STANDARD
BEGIN:DAYLIGHT
TZOFFSETFROM:+0100
TZOFFSETTO:+0200
TZNAME:CEST
DTSTART:20240331T010000
END:DAYLIGHT
BEGIN:STANDARD
TZOFFSETFROM:+0200
TZOFFSETTO:+0100
TZNAME:CET
DTSTART:20241027T010000
END:STANDARD
BEGIN:DAYLIGHT
TZOFFSETFROM:+0100
TZOFFSETTO:+0200
TZNAME:CEST
DTSTART:20250330T010000
END:DAYLIGHT
BEGIN:STANDARD
TZOFFSETFROM:+0200
TZOFFSETTO:+0100
TZNAME:CET
DTSTART:20251026T010000
END:STANDARD
END:VTIMEZONE
BEGIN:VEVENT
DTSTART;TZID=Europe/Berlin:20240614T180000
DTEND;TZID=Europe/Berlin:20240614T230000
DTSTAMP:20260422T175412
CREATED:20240314T080838Z
LAST-MODIFIED:20240314T082433Z
UID:783-1718388000-1718406000@weissbier-muenchen.de
SUMMARY:Quartalstreffen im Hirschgarten
DESCRIPTION:Es wird Zeit für ein sommerliches Quartalstreffen im königlichen Hirschgarten. Es gibt herrliches Essen und eiskaltes Augustiner vom Holzfass. \n\n\n\nDas Treffen findet im bewirteten Bereich statt. Ihr braucht also nichts mitbringen\, außer der ohenhin königlich guten Laune.
URL:https://weissbier-muenchen.de/event/quartalstreffen-im-hirschgarten/
LOCATION:Königlicher Hirschgarten\, Hirschgarten 1\, München\, 80639\, Deutschland
END:VEVENT
END:VCALENDAR